BEGIN:VCALENDAR
VERSION:2.0
PRODID:-//Ubora - ECPv6.15.20//NONSGML v1.0//EN
CALSCALE:GREGORIAN
METHOD:PUBLISH
X-ORIGINAL-URL:https://ubora-biomedical.org
X-WR-CALDESC:Events for Ubora
REFRESH-INTERVAL;VALUE=DURATION:PT1H
X-Robots-Tag:noindex
X-PUBLISHED-TTL:PT1H
BEGIN:VTIMEZONE
TZID:Europe/Madrid
BEGIN:DAYLIGHT
TZOFFSETFROM:+0100
TZOFFSETTO:+0200
TZNAME:CEST
DTSTART:20180325T010000
END:DAYLIGHT
BEGIN:STANDARD
TZOFFSETFROM:+0200
TZOFFSETTO:+0100
TZNAME:CET
DTSTART:20181028T010000
END:STANDARD
BEGIN:DAYLIGHT
TZOFFSETFROM:+0100
TZOFFSETTO:+0200
TZNAME:CEST
DTSTART:20190331T010000
END:DAYLIGHT
BEGIN:STANDARD
TZOFFSETFROM:+0200
TZOFFSETTO:+0100
TZNAME:CET
DTSTART:20191027T010000
END:STANDARD
BEGIN:DAYLIGHT
TZOFFSETFROM:+0100
TZOFFSETTO:+0200
TZNAME:CEST
DTSTART:20200329T010000
END:DAYLIGHT
BEGIN:STANDARD
TZOFFSETFROM:+0200
TZOFFSETTO:+0100
TZNAME:CET
DTSTART:20201025T010000
END:STANDARD
END:VTIMEZONE
BEGIN:VEVENT
DTSTART;VALUE=DATE:20190814
DTEND;VALUE=DATE:20190817
DTSTAMP:20260420T214103
CREATED:20190302T110859Z
LAST-MODIFIED:20190302T110859Z
UID:2981-1565740800-1565999999@ubora-biomedical.org
SUMMARY:16th International Symposium on Computer Methods in Biomechanics and Biomedical Engineering and the 4th Conference on Imaging and Visualization
DESCRIPTION:CMBBE 2019 topics reflect the latest advances\, innovations and applications of computer methods in biomechanics. The objective of the meeting is to highlight new emerging research areas as well as to present innovative technologies in biomechanics\, biomedical engineering as well as in imaging and visualization. \nThe CMBBE 2019 symposium will bring together established researchers and international key speakers\, offering top level\, state of the art knowledge and networking opportunities in the field of biomechanics and biomedical engineering. You will have the opportunity to present your researches and network with colleagues from the field. 
URL:https://ubora-biomedical.org/event/16th-international-symposium-on-computer-methods-in-biomechanics-and-biomedical-engineering-and-the-4th-conference-on-imaging-and-visualization/
LOCATION:New York\, New York\, NY\, United States
CATEGORIES:Conference
END:VEVENT
END:VCALENDAR