BEGIN:VCALENDAR
VERSION:2.0
PRODID:-//Ubora - ECPv6.15.20//NONSGML v1.0//EN
CALSCALE:GREGORIAN
METHOD:PUBLISH
X-ORIGINAL-URL:https://ubora-biomedical.org
X-WR-CALDESC:Events for Ubora
REFRESH-INTERVAL;VALUE=DURATION:PT1H
X-Robots-Tag:noindex
X-PUBLISHED-TTL:PT1H
BEGIN:VTIMEZONE
TZID:Europe/Madrid
BEGIN:DAYLIGHT
TZOFFSETFROM:+0100
TZOFFSETTO:+0200
TZNAME:CEST
DTSTART:20180325T010000
END:DAYLIGHT
BEGIN:STANDARD
TZOFFSETFROM:+0200
TZOFFSETTO:+0100
TZNAME:CET
DTSTART:20181028T010000
END:STANDARD
BEGIN:DAYLIGHT
TZOFFSETFROM:+0100
TZOFFSETTO:+0200
TZNAME:CEST
DTSTART:20190331T010000
END:DAYLIGHT
BEGIN:STANDARD
TZOFFSETFROM:+0200
TZOFFSETTO:+0100
TZNAME:CET
DTSTART:20191027T010000
END:STANDARD
BEGIN:DAYLIGHT
TZOFFSETFROM:+0100
TZOFFSETTO:+0200
TZNAME:CEST
DTSTART:20200329T010000
END:DAYLIGHT
BEGIN:STANDARD
TZOFFSETFROM:+0200
TZOFFSETTO:+0100
TZNAME:CET
DTSTART:20201025T010000
END:STANDARD
END:VTIMEZONE
BEGIN:VTIMEZONE
TZID:Africa/Kampala
BEGIN:STANDARD
TZOFFSETFROM:+0300
TZOFFSETTO:+0300
TZNAME:EAT
DTSTART:20180101T000000
END:STANDARD
END:VTIMEZONE
BEGIN:VEVENT
DTSTART;VALUE=DATE:20190604
DTEND;VALUE=DATE:20190607
DTSTAMP:20260420T175551
CREATED:20190302T112212Z
LAST-MODIFIED:20190302T112212Z
UID:2987-1559606400-1559865599@ubora-biomedical.org
SUMMARY:GARR Conference 2019
DESCRIPTION:
URL:https://ubora-biomedical.org/event/garr-conference-2019/
LOCATION:Turin\, Turin\, Italy
CATEGORIES:Conference
END:VEVENT
BEGIN:VEVENT
DTSTART;VALUE=DATE:20190620
DTEND;VALUE=DATE:20190622
DTSTAMP:20260420T175551
CREATED:20190724T132540Z
LAST-MODIFIED:20190724T132540Z
UID:3153-1560988800-1561161599@ubora-biomedical.org
SUMMARY:Centro 3R annual Meeting
DESCRIPTION:The Scientific Programme of this 2nd Annual Meeting brings together researchers\, policy makers and industry to present the latest progress in the life sciences and in the concrete application of the scientific and ethical principles behind the 3Rs. Besides presentations by experts from member universities from complementary disciplines\, the program also contains lectures by international representatives from EURL – ECVAM\, other national and EU institutions. The aim is to showcase the Centro 3R’s competencies and encourage and foster new collaborations and ideas.
URL:https://ubora-biomedical.org/event/centro-3r-annual-meeting/
LOCATION:Genova\, Genova\, Italy
CATEGORIES:Conference,Meeting
END:VEVENT
BEGIN:VEVENT
DTSTART;VALUE=DATE:20190621
DTEND;VALUE=DATE:20190622
DTSTAMP:20260420T175551
CREATED:20190302T114417Z
LAST-MODIFIED:20190330T213151Z
UID:2994-1561075200-1561161599@ubora-biomedical.org
SUMMARY:ABEC Design Competition 2019 - Second stage submission
DESCRIPTION:
URL:https://ubora-biomedical.org/event/abec-design-competition-2019-second-stage-submission/
CATEGORIES:Design Competition
END:VEVENT
BEGIN:VEVENT
DTSTART;VALUE=DATE:20190624
DTEND;VALUE=DATE:20190628
DTSTAMP:20260420T175551
CREATED:20190727T160636Z
LAST-MODIFIED:20190727T160636Z
UID:3172-1561334400-1561679999@ubora-biomedical.org
SUMMARY:15th International CDIO Conference
DESCRIPTION:The 15th international CDIO conference will be held at Aarhus University from 25 June 2019 to 27 June 2019 with activities on 24 and 28 June. The main theme of the 15th International CDIO Conference is change in Engineering Education.
URL:https://ubora-biomedical.org/event/15th-international-cdio-conference/
LOCATION:Aarhus University\, Bartholins Allé 3\, Aarhus\, Denmark
CATEGORIES:Conference
END:VEVENT
END:VCALENDAR