BEGIN:VCALENDAR
VERSION:2.0
PRODID:-//Ubora - ECPv6.15.20//NONSGML v1.0//EN
CALSCALE:GREGORIAN
METHOD:PUBLISH
X-WR-CALNAME:Ubora
X-ORIGINAL-URL:https://ubora-biomedical.org
X-WR-CALDESC:Events for Ubora
REFRESH-INTERVAL;VALUE=DURATION:PT1H
X-Robots-Tag:noindex
X-PUBLISHED-TTL:PT1H
BEGIN:VTIMEZONE
TZID:Europe/Madrid
BEGIN:DAYLIGHT
TZOFFSETFROM:+0100
TZOFFSETTO:+0200
TZNAME:CEST
DTSTART:20160327T010000
END:DAYLIGHT
BEGIN:STANDARD
TZOFFSETFROM:+0200
TZOFFSETTO:+0100
TZNAME:CET
DTSTART:20161030T010000
END:STANDARD
BEGIN:DAYLIGHT
TZOFFSETFROM:+0100
TZOFFSETTO:+0200
TZNAME:CEST
DTSTART:20170326T010000
END:DAYLIGHT
BEGIN:STANDARD
TZOFFSETFROM:+0200
TZOFFSETTO:+0100
TZNAME:CET
DTSTART:20171029T010000
END:STANDARD
BEGIN:DAYLIGHT
TZOFFSETFROM:+0100
TZOFFSETTO:+0200
TZNAME:CEST
DTSTART:20180325T010000
END:DAYLIGHT
BEGIN:STANDARD
TZOFFSETFROM:+0200
TZOFFSETTO:+0100
TZNAME:CET
DTSTART:20181028T010000
END:STANDARD
BEGIN:DAYLIGHT
TZOFFSETFROM:+0100
TZOFFSETTO:+0200
TZNAME:CEST
DTSTART:20190331T010000
END:DAYLIGHT
BEGIN:STANDARD
TZOFFSETFROM:+0200
TZOFFSETTO:+0100
TZNAME:CET
DTSTART:20191027T010000
END:STANDARD
END:VTIMEZONE
BEGIN:VEVENT
DTSTART;VALUE=DATE:20180119
DTEND;VALUE=DATE:20180122
DTSTAMP:20260421T071359
CREATED:20171111T170210Z
LAST-MODIFIED:20171111T170210Z
UID:782-1516320000-1516579199@ubora-biomedical.org
SUMMARY:Biodevices 2018
DESCRIPTION:11th International Conference on Biomedical Electronics and Devices
URL:https://ubora-biomedical.org/event/biodevices-2018/
LOCATION:Madeira\, Madeira\, Portugal
CATEGORIES:Conference
END:VEVENT
BEGIN:VEVENT
DTSTART;VALUE=DATE:20171211
DTEND;VALUE=DATE:20171216
DTSTAMP:20260421T071359
CREATED:20170804T012231Z
LAST-MODIFIED:20171123T001410Z
UID:436-1512950400-1513382399@ubora-biomedical.org
SUMMARY:First UBORA Design School
DESCRIPTION:
URL:https://ubora-biomedical.org/event/ubora-design-school/
LOCATION:Kenyatta University\, Nairobi\, Kenya
CATEGORIES:Design School
END:VEVENT
BEGIN:VEVENT
DTSTART;VALUE=DATE:20171201
DTEND;VALUE=DATE:20171204
DTSTAMP:20260421T071359
CREATED:20171111T164525Z
LAST-MODIFIED:20171111T164525Z
UID:769-1512086400-1512345599@ubora-biomedical.org
SUMMARY:Maker Faire - European Edition
DESCRIPTION:
URL:https://ubora-biomedical.org/event/maker-faire-european-edition/
LOCATION:Rome Italy\, Alexandre Gustave Eiffel\, Rome\, 00148\, Italy
CATEGORIES:Faire
END:VEVENT
BEGIN:VEVENT
DTSTART;TZID=Europe/Madrid:20171123T080000
DTEND;TZID=Europe/Madrid:20171123T170000
DTSTAMP:20260421T071359
CREATED:20171123T001239Z
LAST-MODIFIED:20171123T001239Z
UID:1009-1511424000-1511456400@ubora-biomedical.org
SUMMARY:Design of Medical Devices Europe conference
DESCRIPTION:
URL:https://ubora-biomedical.org/event/design-of-medical-devices-europe-conference/
LOCATION:eindhoven\, Eindhoven\, Netherlands
CATEGORIES:Conference
END:VEVENT
BEGIN:VEVENT
DTSTART;VALUE=DATE:20170912
DTEND;VALUE=DATE:20170913
DTSTAMP:20260421T071359
CREATED:20170912T175418Z
LAST-MODIFIED:20171123T001433Z
UID:652-1505174400-1505260799@ubora-biomedical.org
SUMMARY:UBORA at Festival della Robotica
DESCRIPTION:Presentation of UBORA project at Festival della Robotica. Thematic session: Technologies for Humanitarian Cooperation.
URL:https://ubora-biomedical.org/event/ubora-at-festival-della-robotica/
LOCATION:Arsenali Medicei Pisa\, Lungarno Ranieri Simonelli\, Pisa\, 56126\, Italy
CATEGORIES:Conference
END:VEVENT
BEGIN:VEVENT
DTSTART;VALUE=DATE:20170728
DTEND;VALUE=DATE:20170729
DTSTAMP:20260421T071359
CREATED:20170804T152800Z
LAST-MODIFIED:20170804T152800Z
UID:598-1501200000-1501286399@ubora-biomedical.org
SUMMARY:Second stage deadline for the Design Competition
DESCRIPTION:
URL:https://ubora-biomedical.org/event/second-stage-deadline-for-the-design-competition/
CATEGORIES:Design Competition
END:VEVENT
BEGIN:VEVENT
DTSTART;VALUE=DATE:20170618
DTEND;VALUE=DATE:20170623
DTSTAMP:20260421T071359
CREATED:20180525T091926Z
LAST-MODIFIED:20180525T091926Z
UID:1824-1497744000-1498175999@ubora-biomedical.org
SUMMARY:13th International CDIO Conference
DESCRIPTION:
URL:https://ubora-biomedical.org/event/13th-international-cdio-conference/
LOCATION:Calgary\, Calgary\, Canada
CATEGORIES:Conference
END:VEVENT
BEGIN:VEVENT
DTSTART;VALUE=DATE:20170611
DTEND;VALUE=DATE:20170616
DTSTAMP:20260421T071359
CREATED:20171122T134005Z
LAST-MODIFIED:20171123T001442Z
UID:950-1497139200-1497571199@ubora-biomedical.org
SUMMARY:EMBEC'17 & NBC'17
DESCRIPTION:
URL:https://ubora-biomedical.org/event/embec17-nbc17/
LOCATION:Tampere\, Tampere\, Finland
CATEGORIES:Conference
END:VEVENT
BEGIN:VEVENT
DTSTART;VALUE=DATE:20170123
DTEND;VALUE=DATE:20170128
DTSTAMP:20260421T071359
CREATED:20171123T004035Z
LAST-MODIFIED:20171123T004035Z
UID:1019-1485129600-1485561599@ubora-biomedical.org
SUMMARY:Innovators Summer School
DESCRIPTION:
URL:https://ubora-biomedical.org/event/innovators-summer-school/
LOCATION:Cairo\, Cairo\, Egypt
CATEGORIES:Design School
END:VEVENT
END:VCALENDAR