BEGIN:VCALENDAR
VERSION:2.0
PRODID:-//Ubora - ECPv6.15.20//NONSGML v1.0//EN
CALSCALE:GREGORIAN
METHOD:PUBLISH
X-ORIGINAL-URL:https://ubora-biomedical.org
X-WR-CALDESC:Events for Ubora
REFRESH-INTERVAL;VALUE=DURATION:PT1H
X-Robots-Tag:noindex
X-PUBLISHED-TTL:PT1H
BEGIN:VTIMEZONE
TZID:Europe/Madrid
BEGIN:DAYLIGHT
TZOFFSETFROM:+0100
TZOFFSETTO:+0200
TZNAME:CEST
DTSTART:20180325T010000
END:DAYLIGHT
BEGIN:STANDARD
TZOFFSETFROM:+0200
TZOFFSETTO:+0100
TZNAME:CET
DTSTART:20181028T010000
END:STANDARD
BEGIN:DAYLIGHT
TZOFFSETFROM:+0100
TZOFFSETTO:+0200
TZNAME:CEST
DTSTART:20190331T010000
END:DAYLIGHT
BEGIN:STANDARD
TZOFFSETFROM:+0200
TZOFFSETTO:+0100
TZNAME:CET
DTSTART:20191027T010000
END:STANDARD
BEGIN:DAYLIGHT
TZOFFSETFROM:+0100
TZOFFSETTO:+0200
TZNAME:CEST
DTSTART:20200329T010000
END:DAYLIGHT
BEGIN:STANDARD
TZOFFSETFROM:+0200
TZOFFSETTO:+0100
TZNAME:CET
DTSTART:20201025T010000
END:STANDARD
BEGIN:DAYLIGHT
TZOFFSETFROM:+0100
TZOFFSETTO:+0200
TZNAME:CEST
DTSTART:20210328T010000
END:DAYLIGHT
BEGIN:STANDARD
TZOFFSETFROM:+0200
TZOFFSETTO:+0100
TZNAME:CET
DTSTART:20211031T010000
END:STANDARD
BEGIN:DAYLIGHT
TZOFFSETFROM:+0100
TZOFFSETTO:+0200
TZNAME:CEST
DTSTART:20220327T010000
END:DAYLIGHT
BEGIN:STANDARD
TZOFFSETFROM:+0200
TZOFFSETTO:+0100
TZNAME:CET
DTSTART:20221030T010000
END:STANDARD
BEGIN:DAYLIGHT
TZOFFSETFROM:+0100
TZOFFSETTO:+0200
TZNAME:CEST
DTSTART:20230326T010000
END:DAYLIGHT
BEGIN:STANDARD
TZOFFSETFROM:+0200
TZOFFSETTO:+0100
TZNAME:CET
DTSTART:20231029T010000
END:STANDARD
END:VTIMEZONE
BEGIN:VEVENT
DTSTART;VALUE=DATE:20191007
DTEND;VALUE=DATE:20191012
DTSTAMP:20260421T031855
CREATED:20190302T104907Z
LAST-MODIFIED:20190302T104907Z
UID:2973-1570406400-1570838399@ubora-biomedical.org
SUMMARY:ABEC Design School 2019
DESCRIPTION:
URL:https://ubora-biomedical.org/event/abec-design-school-2019/
LOCATION:UIRI\, Kampala\, Uganda
CATEGORIES:Design School
END:VEVENT
BEGIN:VEVENT
DTSTART;VALUE=DATE:20191018
DTEND;VALUE=DATE:20191021
DTSTAMP:20260421T031855
CREATED:20190724T091637Z
LAST-MODIFIED:20190724T091637Z
UID:3133-1571356800-1571615999@ubora-biomedical.org
SUMMARY:Maker Faire 2019 - European Edition
DESCRIPTION:It is the most important event in the world of innovation. Is a showcase of invention\, creativity\, and resourcefulness. Maker Faire gathers together tech enthusiasts\, crafters\, educators\, tinkerers\, schools\, universities\, research institutes\, artists\, students\, and corporations. Makers come to show their creations and share their learnings. Attendees flock to Maker Faire to glimpse the future and find the inspiration to become Makers themselves.
URL:https://ubora-biomedical.org/event/maker-faire-2019-european-edition/
LOCATION:Rome\, Rome\, Italy
CATEGORIES:Faire
END:VEVENT
BEGIN:VEVENT
DTSTART;VALUE=DATE:20191021
DTEND;VALUE=DATE:20191023
DTSTAMP:20260421T031855
CREATED:20190302T110142Z
LAST-MODIFIED:20190302T110142Z
UID:2979-1571616000-1571788799@ubora-biomedical.org
SUMMARY:International Clinical Engineering and Health Technology Management Congress
DESCRIPTION:
URL:https://ubora-biomedical.org/event/international-clinical-engineering-and-health-technology-management-congress/
LOCATION:Rome\, Rome\, Italy
CATEGORIES:Conference
END:VEVENT
BEGIN:VEVENT
DTSTART;VALUE=DATE:20200430
DTEND;VALUE=DATE:20200501
DTSTAMP:20260421T031855
CREATED:20200411T103502Z
LAST-MODIFIED:20200411T103530Z
UID:3544-1588204800-1588291199@ubora-biomedical.org
SUMMARY:UBORA Design Competition 2020 - Registration of the team and of the project on UBORA
DESCRIPTION:
URL:https://ubora-biomedical.org/event/ubora-design-competition-2020-registration-of-the-team/
CATEGORIES:Design Competition
END:VEVENT
BEGIN:VEVENT
DTSTART;VALUE=DATE:20200531
DTEND;VALUE=DATE:20200601
DTSTAMP:20260421T031855
CREATED:20200411T103824Z
LAST-MODIFIED:20200411T103824Z
UID:3547-1590883200-1590969599@ubora-biomedical.org
SUMMARY:UBORA Design Competition 2020 - Submission of the project for evaluation
DESCRIPTION:According to the regulation of the competition\, participants have to communicate the decision to participate by sending an email to info@UBORA-biomedical.org
URL:https://ubora-biomedical.org/event/ubora-design-competition-2020-submission-of-the-project-for-evaluation/
CATEGORIES:Design Competition
END:VEVENT
BEGIN:VEVENT
DTSTART;VALUE=DATE:20200605
DTEND;VALUE=DATE:20200606
DTSTAMP:20260421T031855
CREATED:20200411T102851Z
LAST-MODIFIED:20200411T103032Z
UID:3538-1591315200-1591401599@ubora-biomedical.org
SUMMARY:ABEC Design Competition 2020 - 1st stage deadline
DESCRIPTION:
URL:https://ubora-biomedical.org/event/abec-design-competition-1st-stage-deadline/
CATEGORIES:Design Competition
END:VEVENT
BEGIN:VEVENT
DTSTART;VALUE=DATE:20200615
DTEND;VALUE=DATE:20200627
DTSTAMP:20260421T031855
CREATED:20200613T060046Z
LAST-MODIFIED:20200623T092853Z
UID:4030-1592179200-1593215999@ubora-biomedical.org
SUMMARY:Youth Innovators Competition and Design Bootcamp 2020
DESCRIPTION:BootCamp on COVID-19 organized by UNESCO\, UNECA\, DSI of South Africa in collaboration with UBORA and Engineering for Change. \nHere the programme https://ubora-biomedical.org/yicdb-2020-programme/ 
URL:https://ubora-biomedical.org/event/youth-innovators-competition-and-design-bootcamp-2020/
CATEGORIES:Design School
END:VEVENT
BEGIN:VEVENT
DTSTART;VALUE=DATE:20200828
DTEND;VALUE=DATE:20200829
DTSTAMP:20260421T031855
CREATED:20200411T103004Z
LAST-MODIFIED:20200411T103013Z
UID:3540-1598572800-1598659199@ubora-biomedical.org
SUMMARY:ABEC Design Competition 2020 - 2nd stage deadline
DESCRIPTION:
URL:https://ubora-biomedical.org/event/abec-design-competition-2nd-stage-deadline/
CATEGORIES:Design Competition
END:VEVENT
BEGIN:VEVENT
DTSTART;VALUE=DATE:20220912
DTEND;VALUE=DATE:20220916
DTSTAMP:20260421T031855
CREATED:20220509T074000Z
LAST-MODIFIED:20220509T074225Z
UID:4104-1662940800-1663286399@ubora-biomedical.org
SUMMARY:XLI Annual GNB School 2022 – Biomedical Engineering for Sustainable Development
DESCRIPTION:The XLI GNB school offers students an alternative view to the problems and applications of biomedical engineering\, based on a frugal and contextualized approach\, key to fostering the accessibility to safe healthcare without borders. Indeed\, the applications are not limited to low-middle income countries (LMICs)\, but extend to other contexts where resources may be lacking (e.g.\, natural disasters\, epidemics\, pandemics). \nBenefitting from the on-field experience of lectures\, mentors\, and keynote speakers\, the school will follow a “hands-on” teaching approach. \nStudents will collaboratively explore the salient steps for the development of safe\, certifiable medical devices\, thanks to the design framework offered by the UBORA platform. \nThey will go through the analysis of needs\, the classification according to European Medical Device Regulation\, and the identification of relevant standards to guide and support the design process. Appropriate and key enabling technologies\, such as 3D printing\, mobile technologies\, artificial intelligence will be contextualized through cases of study and practical activities. \nThe school will be instrumental for nurturing a new generation of Biomedical Engineers\, able to respond to the demographic and environmental challenges of the 21st century. \nFor the program please click here 
URL:https://ubora-biomedical.org/event/xli-annual-gnb-school-2022-biomedical-engineering-for-sustainable-development/
LOCATION:Brixen\, Brixen\, Italy
CATEGORIES:Design School
END:VEVENT
END:VCALENDAR