BEGIN:VCALENDAR
VERSION:2.0
PRODID:-//Ubora - ECPv6.15.20//NONSGML v1.0//EN
CALSCALE:GREGORIAN
METHOD:PUBLISH
X-WR-CALNAME:Ubora
X-ORIGINAL-URL:https://ubora-biomedical.org
X-WR-CALDESC:Events for Ubora
REFRESH-INTERVAL;VALUE=DURATION:PT1H
X-Robots-Tag:noindex
X-PUBLISHED-TTL:PT1H
BEGIN:VTIMEZONE
TZID:Europe/Madrid
BEGIN:DAYLIGHT
TZOFFSETFROM:+0100
TZOFFSETTO:+0200
TZNAME:CEST
DTSTART:20160327T010000
END:DAYLIGHT
BEGIN:STANDARD
TZOFFSETFROM:+0200
TZOFFSETTO:+0100
TZNAME:CET
DTSTART:20161030T010000
END:STANDARD
BEGIN:DAYLIGHT
TZOFFSETFROM:+0100
TZOFFSETTO:+0200
TZNAME:CEST
DTSTART:20170326T010000
END:DAYLIGHT
BEGIN:STANDARD
TZOFFSETFROM:+0200
TZOFFSETTO:+0100
TZNAME:CET
DTSTART:20171029T010000
END:STANDARD
BEGIN:DAYLIGHT
TZOFFSETFROM:+0100
TZOFFSETTO:+0200
TZNAME:CEST
DTSTART:20180325T010000
END:DAYLIGHT
BEGIN:STANDARD
TZOFFSETFROM:+0200
TZOFFSETTO:+0100
TZNAME:CET
DTSTART:20181028T010000
END:STANDARD
BEGIN:DAYLIGHT
TZOFFSETFROM:+0100
TZOFFSETTO:+0200
TZNAME:CEST
DTSTART:20190331T010000
END:DAYLIGHT
BEGIN:STANDARD
TZOFFSETFROM:+0200
TZOFFSETTO:+0100
TZNAME:CET
DTSTART:20191027T010000
END:STANDARD
BEGIN:DAYLIGHT
TZOFFSETFROM:+0100
TZOFFSETTO:+0200
TZNAME:CEST
DTSTART:20200329T010000
END:DAYLIGHT
BEGIN:STANDARD
TZOFFSETFROM:+0200
TZOFFSETTO:+0100
TZNAME:CET
DTSTART:20201025T010000
END:STANDARD
END:VTIMEZONE
BEGIN:VEVENT
DTSTART;TZID=Europe/Madrid:20190322T150000
DTEND;TZID=Europe/Madrid:20190322T173000
DTSTAMP:20260421T025131
CREATED:20190316T151300Z
LAST-MODIFIED:20190316T151442Z
UID:3017-1553266800-1553275800@ubora-biomedical.org
SUMMARY:Needs Based Medical Design - Call for Ideas
DESCRIPTION:Round table and open dialogue between Medicine and Engineering\nCoordinates: RoomCis 1\, Edificio 30\, ingresso 30C \nProgramme: \n\n15:00 – 15:15: welcome and introduction to UBORA (Arti Ahluwalia)\n15:15 – 16:00: round table and open discussion with Paolo De Simone\, Armando Cuttano\, Riccardo Bartoletti (moderators Nicola Pugliese and Carmelo De Maria)   \n16.00 – 17:00: group work
URL:https://ubora-biomedical.org/event/needs-based-medical-design-call-for-ideas/
LOCATION:Ospedale Cisanello\, Via Piero Trivella\, Pisa\, 56124\, Italy
CATEGORIES:Meeting
END:VEVENT
BEGIN:VEVENT
DTSTART;VALUE=DATE:20190226
DTEND;VALUE=DATE:20190227
DTSTAMP:20260421T025131
CREATED:20190302T103033Z
LAST-MODIFIED:20190302T103033Z
UID:2968-1551139200-1551225599@ubora-biomedical.org
SUMMARY:Seminar on Open Source Medical Devices at University of Bologna
DESCRIPTION:Seminar on Open Source Medical Devices during the Course “Bioengineering for Developing Countries” at University of Bologna
URL:https://ubora-biomedical.org/event/seminar-on-open-source-medical-devices-at-university-of-bologna/
LOCATION:Bologna\, Bologna\, Italy
CATEGORIES:Seminar
END:VEVENT
BEGIN:VEVENT
DTSTART;VALUE=DATE:20190222
DTEND;VALUE=DATE:20190225
DTSTAMP:20260421T025131
CREATED:20190302T102547Z
LAST-MODIFIED:20190302T102547Z
UID:2963-1550793600-1551052799@ubora-biomedical.org
SUMMARY:Biodevices 2019
DESCRIPTION:12th International Conference on Biomedical Electronics and Devices
URL:https://ubora-biomedical.org/event/biodevices-2019/
LOCATION:Prague\, Prague\, Czech Republic
CATEGORIES:Conference
END:VEVENT
BEGIN:VEVENT
DTSTART;TZID=Europe/Madrid:20190221T090000
DTEND;TZID=Europe/Madrid:20190221T133000
DTSTAMP:20260421T025131
CREATED:20190302T113823Z
LAST-MODIFIED:20190302T113823Z
UID:2990-1550739600-1550755800@ubora-biomedical.org
SUMMARY:Workshop on Information Technology\, Economics\, and Management
DESCRIPTION:The Workshop is organized in the framework of a collaboration between the departments of Information Engineering and the School of Economics and Management of the University of Pisa.  The UBORA project and the UBORA e-infrastructure will be presented\, with a talk on “Co-Creation of Open Source Medical Devices: from the management of intellectual property to new business opportunities“.
URL:https://ubora-biomedical.org/event/workshop-on-information-technology-economics-and-management/
LOCATION:University of Pisa\, Largo Lucio Lazzarino 1\, PISA\, PI\, 56126\, Italy
CATEGORIES:Conference
END:VEVENT
BEGIN:VEVENT
DTSTART;VALUE=DATE:20190221
DTEND;VALUE=DATE:20190223
DTSTAMP:20260421T025131
CREATED:20190302T101934Z
LAST-MODIFIED:20190302T101934Z
UID:2965-1550707200-1550879999@ubora-biomedical.org
SUMMARY:Sankalp Africa Summit 2019
DESCRIPTION:Since its inception in 2014\, Sankalp Africa has become one of the East Africa region’s leading events for social entrepreneurship and impact investing. The summit witnesses hundreds of game changing social entrepreneurs interact with investors and ecosystem builders every year.
URL:https://ubora-biomedical.org/event/sankalp-africa-summit-2019/
LOCATION:Nairobi\, Off Thika Road\, Next To De La Rue Ltd Mathare N Rd\, Nairobi\, Kenya
CATEGORIES:Conference
END:VEVENT
BEGIN:VEVENT
DTSTART;TZID=Europe/Madrid:20190206T183000
DTEND;TZID=Europe/Madrid:20190206T183000
DTSTAMP:20260421T025131
CREATED:20190302T101058Z
LAST-MODIFIED:20190302T101058Z
UID:2961-1549477800-1549477800@ubora-biomedical.org
SUMMARY:Certification of Open Source Medical Devices - WEBINAR
DESCRIPTION:Webinar on the Certification of Open Source Medical Devices according to the Medical Device Regulation MDR 2017/745\, presented through the UBORA e-infrastructure.
URL:https://ubora-biomedical.org/event/certification-of-open-source-medical-devices-webinar/
CATEGORIES:Webinar
END:VEVENT
BEGIN:VEVENT
DTSTART;VALUE=DATE:20190123
DTEND;VALUE=DATE:20190125
DTSTAMP:20260421T025131
CREATED:20190110T183042Z
LAST-MODIFIED:20190904T173654Z
UID:3455-1548201600-1548374399@ubora-biomedical.org
SUMMARY:Open source segmentation methods for biomedical image processing
DESCRIPTION:A. Callara: Seminar of Open source segmentation methods for biomedical image processing – Theory and Practice \n\nJanuary 23 at 15:30\nJanuary 24 at 17:00\n\nat meeting Aula Pacinotti\, School of Engineering at Univesity of Pisa. \nClick here for the flyer.
URL:https://ubora-biomedical.org/event/open-source-segmentation-methods-for-biomedical-image-processing/
LOCATION:Pisa\, Largo Lucio Lazzarino 1\, Pisa\, PISA\, 56122\, Italy
CATEGORIES:Seminar
END:VEVENT
BEGIN:VEVENT
DTSTART;VALUE=DATE:20190114
DTEND;VALUE=DATE:20190119
DTSTAMP:20260421T025131
CREATED:20190302T105755Z
LAST-MODIFIED:20190302T105755Z
UID:2976-1547424000-1547855999@ubora-biomedical.org
SUMMARY:Advanced Biomedical Instrumentation: Design and Practice
DESCRIPTION:PhD Course on Biomedical Instrumentation\, held by Prof. Mannan Mridha in the framework of the UBORA project
URL:https://ubora-biomedical.org/event/advanced-biomedical-instrumentation-design-and-practice/
LOCATION:University of Pisa\, Largo Lucio Lazzarino 1\, PISA\, PI\, 56126\, Italy
CATEGORIES:Seminar
END:VEVENT
BEGIN:VEVENT
DTSTART;VALUE=DATE:20181213
DTEND;VALUE=DATE:20181216
DTSTAMP:20260421T025131
CREATED:20180918T225758Z
LAST-MODIFIED:20180918T225758Z
UID:2311-1544659200-1544918399@ubora-biomedical.org
SUMMARY:4th Global Forum Medical Devices
DESCRIPTION:The 4th Global Forum will build upon the work that was accomplished at the 1st Global Forum in Bangkok in 2010\, the 2nd in Geneva in 2013\, and the 3rd also in Geneva in 2017. The most recent Global Forum was attended by approximately 600 participants from over 100 Member States. These events function as the main opportunity to disseminate and share information on medical devices for global health.
URL:https://ubora-biomedical.org/event/4th-global-forum-medical-devices/
LOCATION:india\, Andhra Pradesh MedTech Zone Limited\, Visakhapatnam\, 530031\, India
CATEGORIES:Conference
END:VEVENT
BEGIN:VEVENT
DTSTART;VALUE=DATE:20181012
DTEND;VALUE=DATE:20181015
DTSTAMP:20260421T025131
CREATED:20180918T225250Z
LAST-MODIFIED:20180918T225250Z
UID:2309-1539302400-1539561599@ubora-biomedical.org
SUMMARY:Maker Faire Rome 2018
DESCRIPTION:
URL:https://ubora-biomedical.org/event/maker-faire-rome-2018/
LOCATION:Rome\, Rome\, Italy
CATEGORIES:Faire
END:VEVENT
BEGIN:VEVENT
DTSTART;VALUE=DATE:20181011
DTEND;VALUE=DATE:20181012
DTSTAMP:20260421T025131
CREATED:20181105T183139Z
LAST-MODIFIED:20181105T183151Z
UID:2820-1539216000-1539302399@ubora-biomedical.org
SUMMARY:European Parliament Interest Group in Biomedical Engineering Meeting
DESCRIPTION:
URL:https://ubora-biomedical.org/event/european-parliament-interest-group-in-biomedical-engineering-meeting/
LOCATION:European Parliament in Bruxelles\, Bât. Altiero Spinelli 60 rue Wiertz / Wiertzstraat 60\, Bruxelles\, 1047\, Belgium
CATEGORIES:Meeting
END:VEVENT
BEGIN:VEVENT
DTSTART;VALUE=DATE:20181009
DTEND;VALUE=DATE:20181012
DTSTAMP:20260421T025131
CREATED:20180918T223453Z
LAST-MODIFIED:20180918T223453Z
UID:2301-1539043200-1539302399@ubora-biomedical.org
SUMMARY:Digital Infrastructure for Research 2018
DESCRIPTION:The third edition of the annual Digital Infrastructures for Research (DI4R) conference will be held this year at the University of Lisbon campus in Lisbon\, Portugal from 9-11 October.
URL:https://ubora-biomedical.org/event/digital-infrastructure-for-research-2018/
LOCATION:Lisbon\, Av. das Forças Armadas\, Lisbon\, 1649-026\, Portugal
CATEGORIES:Conference
END:VEVENT
BEGIN:VEVENT
DTSTART;VALUE=DATE:20180928
DTEND;VALUE=DATE:20180929
DTSTAMP:20260421T025131
CREATED:20180918T224455Z
LAST-MODIFIED:20180918T224455Z
UID:2304-1538092800-1538179199@ubora-biomedical.org
SUMMARY:European Researchers’ Night – ERN
DESCRIPTION:UBORA will be present in the Italian Edition of the European Researchers’ Night – Bright. \nMore information\, on the website of the events in Tuscany 
URL:https://ubora-biomedical.org/event/european-researchers-night-ern/
LOCATION:Pisa – Logge\, Logge di Banchi\, Pisa\, 56122\, Italy
CATEGORIES:Faire
END:VEVENT
BEGIN:VEVENT
DTSTART;VALUE=DATE:20180927
DTEND;VALUE=DATE:20181004
DTSTAMP:20260421T025131
CREATED:20180918T224949Z
LAST-MODIFIED:20180918T224949Z
UID:2307-1538006400-1538611199@ubora-biomedical.org
SUMMARY:Internazional Robotic Festival 2018
DESCRIPTION:
URL:https://ubora-biomedical.org/event/international_robotic_festival_2018/
LOCATION:Pisa\, Largo Lucio Lazzarino 1\, Pisa\, PISA\, 56122\, Italy
CATEGORIES:Conference,Faire
END:VEVENT
BEGIN:VEVENT
DTSTART;VALUE=DATE:20180903
DTEND;VALUE=DATE:20180908
DTSTAMP:20260421T025131
CREATED:20171111T165713Z
LAST-MODIFIED:20171123T001338Z
UID:779-1535932800-1536364799@ubora-biomedical.org
SUMMARY:Second UBORA design school
DESCRIPTION:
URL:https://ubora-biomedical.org/event/second-ubora-design-school/
LOCATION:Pisa\, Largo Lucio Lazzarino 1\, Pisa\, PISA\, 56122\, Italy
CATEGORIES:Design School
END:VEVENT
BEGIN:VEVENT
DTSTART;TZID=Europe/Madrid:20180901T140000
DTEND;TZID=Europe/Madrid:20180902T130000
DTSTAMP:20260421T025131
CREATED:20180205T211125Z
LAST-MODIFIED:20180205T232000Z
UID:1413-1535810400-1535893200@ubora-biomedical.org
SUMMARY:First International Conference on Collaborative Biomedical Engineering for Open Source Medical Technologies
DESCRIPTION:
URL:https://ubora-biomedical.org/event/first-international-conference-on-collaborative-biomedical-engineering-for-open-source-medical-technologies/
LOCATION:Centro Congressi Le Benedettine\, Piazza San Paolo a ripa d'Arno\, Pisa\, 56122\, Italy
CATEGORIES:Conference
END:VEVENT
BEGIN:VEVENT
DTSTART;VALUE=DATE:20180628
DTEND;VALUE=DATE:20180703
DTSTAMP:20260421T025131
CREATED:20171111T170720Z
LAST-MODIFIED:20171111T170720Z
UID:787-1530144000-1530575999@ubora-biomedical.org
SUMMARY:14th International CDIO Conference
DESCRIPTION:Conceive Desing Implement Operate (CDIO) international Conference
URL:https://ubora-biomedical.org/event/14th-international-cdio-conference/
LOCATION:Kanazawa\, Kanazawa\, Japan
CATEGORIES:Conference
END:VEVENT
BEGIN:VEVENT
DTSTART;VALUE=DATE:20180625
DTEND;VALUE=DATE:20180628
DTSTAMP:20260421T025131
CREATED:20190805T214837Z
LAST-MODIFIED:20190805T215635Z
UID:3207-1529884800-1530143999@ubora-biomedical.org
SUMMARY:6th National Conference of Bioengineering - Milan
DESCRIPTION:The paper “Open-Source Automated External Defibrillator” was presented by Licia Di Pietro at the 6th National Congress of Bioengineering which was held on June 25th-27th in Milan.
URL:https://ubora-biomedical.org/event/sixth-national-conference-of-bioengineering-milan/
CATEGORIES:Conference
END:VEVENT
BEGIN:VEVENT
DTSTART;VALUE=DATE:20180621
DTEND;VALUE=DATE:20180622
DTSTAMP:20260421T025131
CREATED:20180525T090229Z
LAST-MODIFIED:20180525T090229Z
UID:1819-1529539200-1529625599@ubora-biomedical.org
SUMMARY:Responsible Citizen Innovation
DESCRIPTION:A multi-stakeholder dialogue event
URL:https://ubora-biomedical.org/event/responsible-citizen-innovation/
LOCATION:Fondazione Bassetti\, Via Barozzi 4\, Milan\, Italy
CATEGORIES:Conference
END:VEVENT
BEGIN:VEVENT
DTSTART;VALUE=DATE:20180607
DTEND;VALUE=DATE:20180609
DTSTAMP:20260421T025131
CREATED:20180525T082348Z
LAST-MODIFIED:20180525T082348Z
UID:1808-1528329600-1528502399@ubora-biomedical.org
SUMMARY:SMAU Bologna 2018
DESCRIPTION:The main event in Italy related to digital innovation for companies and professionals 
URL:https://ubora-biomedical.org/event/smau-bologna-2018/
LOCATION:Bologna\, Bologna\, Italy
CATEGORIES:Faire
END:VEVENT
BEGIN:VEVENT
DTSTART;VALUE=DATE:20180603
DTEND;VALUE=DATE:20180609
DTSTAMP:20260421T025131
CREATED:20171111T171154Z
LAST-MODIFIED:20171111T171154Z
UID:790-1527984000-1528502399@ubora-biomedical.org
SUMMARY:IFMBE world conference
DESCRIPTION:World Congress on Medical Physics & Biomedical Engineering
URL:https://ubora-biomedical.org/event/ifmbe-world-conference/
LOCATION:Prague\, Prague\, Czech Republic
CATEGORIES:Conference
END:VEVENT
BEGIN:VEVENT
DTSTART;VALUE=DATE:20180520
DTEND;VALUE=DATE:20180521
DTSTAMP:20260421T025131
CREATED:20180102T103611Z
LAST-MODIFIED:20180330T133441Z
UID:1291-1526774400-1526860799@ubora-biomedical.org
SUMMARY:Second Stage Submission Deadline - Second Design Competition
DESCRIPTION:
URL:https://ubora-biomedical.org/event/second-stage-submission-deadline-second-design-competition/
CATEGORIES:Design Competition
END:VEVENT
BEGIN:VEVENT
DTSTART;VALUE=DATE:20180517
DTEND;VALUE=DATE:20180520
DTSTAMP:20260421T025131
CREATED:20180525T081548Z
LAST-MODIFIED:20180525T081548Z
UID:1805-1526515200-1526774399@ubora-biomedical.org
SUMMARY:Technology Hub 2018
DESCRIPTION:A wide cross-event that proposes technologies using integration and contamination skills to extend the application fields. A 360° event that guarantees commercial relationships with professionals belonging to different application fields. A networking and interaction opportunity with the digital transformation’s experts in all manufacturing sectors.
URL:https://ubora-biomedical.org/event/technology-hub-2018/
LOCATION:Milan\, Milano\, Italy
CATEGORIES:Faire
END:VEVENT
BEGIN:VEVENT
DTSTART;VALUE=DATE:20180510
DTEND;VALUE=DATE:20180513
DTSTAMP:20260421T025131
CREATED:20180525T083819Z
LAST-MODIFIED:20180525T083829Z
UID:1814-1525910400-1526169599@ubora-biomedical.org
SUMMARY:AIIC national meeting 2018
DESCRIPTION:National meeting of the Italian Association of Clinical Engineering (Associazione Italiana Ingegneri Clinici – AIIC)
URL:https://ubora-biomedical.org/event/aiic-national-meeting-2018/
LOCATION:Rome\, Rome\, Italy
CATEGORIES:Conference
END:VEVENT
BEGIN:VEVENT
DTSTART;VALUE=DATE:20180310
DTEND;VALUE=DATE:20180311
DTSTAMP:20260421T025131
CREATED:20180102T103417Z
LAST-MODIFIED:20180227T114500Z
UID:1289-1520640000-1520726399@ubora-biomedical.org
SUMMARY:First Stage Submission Deadline - Design Competition 2018
DESCRIPTION:
URL:https://ubora-biomedical.org/event/first-stage-submission-deadline-second-design-competition/
CATEGORIES:Design Competition
END:VEVENT
BEGIN:VEVENT
DTSTART;VALUE=DATE:20180119
DTEND;VALUE=DATE:20180122
DTSTAMP:20260421T025131
CREATED:20171111T170420Z
LAST-MODIFIED:20171111T170420Z
UID:785-1516320000-1516579199@ubora-biomedical.org
SUMMARY:Biostec 2018 EU project space
DESCRIPTION:11th International Joint conference on Biomedical Engineering systems and technologies
URL:https://ubora-biomedical.org/event/biostec-2018-eu-project-space/
LOCATION:Madeira\, Madeira\, Portugal
CATEGORIES:Conference
END:VEVENT
BEGIN:VEVENT
DTSTART;VALUE=DATE:20180119
DTEND;VALUE=DATE:20180122
DTSTAMP:20260421T025131
CREATED:20171111T170210Z
LAST-MODIFIED:20171111T170210Z
UID:782-1516320000-1516579199@ubora-biomedical.org
SUMMARY:Biodevices 2018
DESCRIPTION:11th International Conference on Biomedical Electronics and Devices
URL:https://ubora-biomedical.org/event/biodevices-2018/
LOCATION:Madeira\, Madeira\, Portugal
CATEGORIES:Conference
END:VEVENT
BEGIN:VEVENT
DTSTART;VALUE=DATE:20171211
DTEND;VALUE=DATE:20171216
DTSTAMP:20260421T025131
CREATED:20170804T012231Z
LAST-MODIFIED:20171123T001410Z
UID:436-1512950400-1513382399@ubora-biomedical.org
SUMMARY:First UBORA Design School
DESCRIPTION:
URL:https://ubora-biomedical.org/event/ubora-design-school/
LOCATION:Kenyatta University\, Nairobi\, Kenya
CATEGORIES:Design School
END:VEVENT
BEGIN:VEVENT
DTSTART;VALUE=DATE:20171201
DTEND;VALUE=DATE:20171204
DTSTAMP:20260421T025131
CREATED:20171111T164525Z
LAST-MODIFIED:20171111T164525Z
UID:769-1512086400-1512345599@ubora-biomedical.org
SUMMARY:Maker Faire - European Edition
DESCRIPTION:
URL:https://ubora-biomedical.org/event/maker-faire-european-edition/
LOCATION:Rome Italy\, Alexandre Gustave Eiffel\, Rome\, 00148\, Italy
CATEGORIES:Faire
END:VEVENT
BEGIN:VEVENT
DTSTART;TZID=Europe/Madrid:20171123T080000
DTEND;TZID=Europe/Madrid:20171123T170000
DTSTAMP:20260421T025131
CREATED:20171123T001239Z
LAST-MODIFIED:20171123T001239Z
UID:1009-1511424000-1511456400@ubora-biomedical.org
SUMMARY:Design of Medical Devices Europe conference
DESCRIPTION:
URL:https://ubora-biomedical.org/event/design-of-medical-devices-europe-conference/
LOCATION:eindhoven\, Eindhoven\, Netherlands
CATEGORIES:Conference
END:VEVENT
END:VCALENDAR