BEGIN:VCALENDAR
VERSION:2.0
PRODID:-//Ubora - ECPv6.15.20//NONSGML v1.0//EN
CALSCALE:GREGORIAN
METHOD:PUBLISH
X-WR-CALNAME:Ubora
X-ORIGINAL-URL:https://ubora-biomedical.org
X-WR-CALDESC:Events for Ubora
REFRESH-INTERVAL;VALUE=DURATION:PT1H
X-Robots-Tag:noindex
X-PUBLISHED-TTL:PT1H
BEGIN:VTIMEZONE
TZID:Europe/Madrid
BEGIN:DAYLIGHT
TZOFFSETFROM:+0100
TZOFFSETTO:+0200
TZNAME:CEST
DTSTART:20180325T010000
END:DAYLIGHT
BEGIN:STANDARD
TZOFFSETFROM:+0200
TZOFFSETTO:+0100
TZNAME:CET
DTSTART:20181028T010000
END:STANDARD
BEGIN:DAYLIGHT
TZOFFSETFROM:+0100
TZOFFSETTO:+0200
TZNAME:CEST
DTSTART:20190331T010000
END:DAYLIGHT
BEGIN:STANDARD
TZOFFSETFROM:+0200
TZOFFSETTO:+0100
TZNAME:CET
DTSTART:20191027T010000
END:STANDARD
BEGIN:DAYLIGHT
TZOFFSETFROM:+0100
TZOFFSETTO:+0200
TZNAME:CEST
DTSTART:20200329T010000
END:DAYLIGHT
BEGIN:STANDARD
TZOFFSETFROM:+0200
TZOFFSETTO:+0100
TZNAME:CET
DTSTART:20201025T010000
END:STANDARD
END:VTIMEZONE
BEGIN:VEVENT
DTSTART;VALUE=DATE:20190926
DTEND;VALUE=DATE:20190929
DTSTAMP:20260421T012449
CREATED:20190302T111719Z
LAST-MODIFIED:20190302T111719Z
UID:2984-1569456000-1569715199@ubora-biomedical.org
SUMMARY:15th Mediterranean Conference on Medical and Biological Engineering and Computing - MEDICON2019
DESCRIPTION:Patient empowerment has emerged as a new paradigm that positions the patients at the heart of the health system and encourages them to be actively involved in managing their own healthcare needs. Effective patient empowerment requires a holistic approach\, combining multiple dimensions of needs and patient contexts. Medical and Biological Engineering\, as well as Computing\, are disciplines at the heart of patient empowerment. Research and development in these areas are impacting the science and technology by advancing fundamental concepts in translational medicine and understanding in human physiology\, function and behaviour at multiple levels. This is leading to improved tools and techniques for the detection\, prevention\, treatment and management of diseases. MEDICON2019 provides a common platform for the cross fertilization of ideas\, and to help shape knowledge and scientific achievements by bridging complementary disciplines into an interactive and attractive forum under the special theme of the conference that is “Improving healthcare through holistic patient empowerment”.
URL:https://ubora-biomedical.org/event/15th-mediterranean-conference-on-medical-and-biological-engineering-and-computing-medicon2019/
LOCATION:Coimbra\, Coimbra\, Portugal
CATEGORIES:Conference
END:VEVENT
END:VCALENDAR