BEGIN:VCALENDAR
VERSION:2.0
PRODID:-//Ubora - ECPv6.15.20//NONSGML v1.0//EN
CALSCALE:GREGORIAN
METHOD:PUBLISH
X-ORIGINAL-URL:https://ubora-biomedical.org
X-WR-CALDESC:Events for Ubora
REFRESH-INTERVAL;VALUE=DURATION:PT1H
X-Robots-Tag:noindex
X-PUBLISHED-TTL:PT1H
BEGIN:VTIMEZONE
TZID:Europe/Madrid
BEGIN:DAYLIGHT
TZOFFSETFROM:+0100
TZOFFSETTO:+0200
TZNAME:CEST
DTSTART:20180325T010000
END:DAYLIGHT
BEGIN:STANDARD
TZOFFSETFROM:+0200
TZOFFSETTO:+0100
TZNAME:CET
DTSTART:20181028T010000
END:STANDARD
BEGIN:DAYLIGHT
TZOFFSETFROM:+0100
TZOFFSETTO:+0200
TZNAME:CEST
DTSTART:20190331T010000
END:DAYLIGHT
BEGIN:STANDARD
TZOFFSETFROM:+0200
TZOFFSETTO:+0100
TZNAME:CET
DTSTART:20191027T010000
END:STANDARD
BEGIN:DAYLIGHT
TZOFFSETFROM:+0100
TZOFFSETTO:+0200
TZNAME:CEST
DTSTART:20200329T010000
END:DAYLIGHT
BEGIN:STANDARD
TZOFFSETFROM:+0200
TZOFFSETTO:+0100
TZNAME:CET
DTSTART:20201025T010000
END:STANDARD
END:VTIMEZONE
BEGIN:VEVENT
DTSTART;VALUE=DATE:20190723
DTEND;VALUE=DATE:20190728
DTSTAMP:20260420T214103
CREATED:20190302T104015Z
LAST-MODIFIED:20190805T222000Z
UID:2970-1563840000-1564271999@ubora-biomedical.org
SUMMARY:41st EMB Conference - Berlin 2019
DESCRIPTION:The IEEE Engineering in Medicine and Biology Society organizes the 41st  International Engineering in Medicine and Biology Conference\, to be held in Berlin\, Germany from July 23–27\, 2019.  \nThe paper “Co-design open-source medical devices: how to minimize the human error using UBORA e-infrastructure” was presented by Licia Di Pietro during the session of “Global challenges”. \nThe presentation is available at the following link: EMBC presentation
URL:https://ubora-biomedical.org/event/41st-emb-conference-berlin-2019/
LOCATION:Berlin\, Messedamm 26\, Berlin\, Germany
CATEGORIES:Conference
END:VEVENT
END:VCALENDAR