BEGIN:VCALENDAR
VERSION:2.0
PRODID:-//Ubora - ECPv6.15.20//NONSGML v1.0//EN
CALSCALE:GREGORIAN
METHOD:PUBLISH
X-WR-CALNAME:Ubora
X-ORIGINAL-URL:https://ubora-biomedical.org
X-WR-CALDESC:Events for Ubora
REFRESH-INTERVAL;VALUE=DURATION:PT1H
X-Robots-Tag:noindex
X-PUBLISHED-TTL:PT1H
BEGIN:VTIMEZONE
TZID:Europe/Madrid
BEGIN:DAYLIGHT
TZOFFSETFROM:+0100
TZOFFSETTO:+0200
TZNAME:CEST
DTSTART:20180325T010000
END:DAYLIGHT
BEGIN:STANDARD
TZOFFSETFROM:+0200
TZOFFSETTO:+0100
TZNAME:CET
DTSTART:20181028T010000
END:STANDARD
BEGIN:DAYLIGHT
TZOFFSETFROM:+0100
TZOFFSETTO:+0200
TZNAME:CEST
DTSTART:20190331T010000
END:DAYLIGHT
BEGIN:STANDARD
TZOFFSETFROM:+0200
TZOFFSETTO:+0100
TZNAME:CET
DTSTART:20191027T010000
END:STANDARD
BEGIN:DAYLIGHT
TZOFFSETFROM:+0100
TZOFFSETTO:+0200
TZNAME:CEST
DTSTART:20200329T010000
END:DAYLIGHT
BEGIN:STANDARD
TZOFFSETFROM:+0200
TZOFFSETTO:+0100
TZNAME:CET
DTSTART:20201025T010000
END:STANDARD
END:VTIMEZONE
BEGIN:VEVENT
DTSTART;VALUE=DATE:20190226
DTEND;VALUE=DATE:20190227
DTSTAMP:20260420T143827
CREATED:20190302T103033Z
LAST-MODIFIED:20190302T103033Z
UID:2968-1551139200-1551225599@ubora-biomedical.org
SUMMARY:Seminar on Open Source Medical Devices at University of Bologna
DESCRIPTION:Seminar on Open Source Medical Devices during the Course “Bioengineering for Developing Countries” at University of Bologna
URL:https://ubora-biomedical.org/event/seminar-on-open-source-medical-devices-at-university-of-bologna/
LOCATION:Bologna\, Bologna\, Italy
CATEGORIES:Seminar
END:VEVENT
END:VCALENDAR