BEGIN:VCALENDAR
VERSION:2.0
PRODID:-//Ubora - ECPv6.15.20//NONSGML v1.0//EN
CALSCALE:GREGORIAN
METHOD:PUBLISH
X-ORIGINAL-URL:https://ubora-biomedical.org
X-WR-CALDESC:Events for Ubora
REFRESH-INTERVAL;VALUE=DURATION:PT1H
X-Robots-Tag:noindex
X-PUBLISHED-TTL:PT1H
BEGIN:VTIMEZONE
TZID:Europe/Madrid
BEGIN:DAYLIGHT
TZOFFSETFROM:+0100
TZOFFSETTO:+0200
TZNAME:CEST
DTSTART:20170326T010000
END:DAYLIGHT
BEGIN:STANDARD
TZOFFSETFROM:+0200
TZOFFSETTO:+0100
TZNAME:CET
DTSTART:20171029T010000
END:STANDARD
BEGIN:DAYLIGHT
TZOFFSETFROM:+0100
TZOFFSETTO:+0200
TZNAME:CEST
DTSTART:20180325T010000
END:DAYLIGHT
BEGIN:STANDARD
TZOFFSETFROM:+0200
TZOFFSETTO:+0100
TZNAME:CET
DTSTART:20181028T010000
END:STANDARD
BEGIN:DAYLIGHT
TZOFFSETFROM:+0100
TZOFFSETTO:+0200
TZNAME:CEST
DTSTART:20190331T010000
END:DAYLIGHT
BEGIN:STANDARD
TZOFFSETFROM:+0200
TZOFFSETTO:+0100
TZNAME:CET
DTSTART:20191027T010000
END:STANDARD
END:VTIMEZONE
BEGIN:VEVENT
DTSTART;VALUE=DATE:20181009
DTEND;VALUE=DATE:20181012
DTSTAMP:20260420T233812
CREATED:20180918T223453Z
LAST-MODIFIED:20180918T223453Z
UID:2301-1539043200-1539302399@ubora-biomedical.org
SUMMARY:Digital Infrastructure for Research 2018
DESCRIPTION:The third edition of the annual Digital Infrastructures for Research (DI4R) conference will be held this year at the University of Lisbon campus in Lisbon\, Portugal from 9-11 October.
URL:https://ubora-biomedical.org/event/digital-infrastructure-for-research-2018/
LOCATION:Lisbon\, Av. das Forças Armadas\, Lisbon\, 1649-026\, Portugal
CATEGORIES:Conference
END:VEVENT
BEGIN:VEVENT
DTSTART;VALUE=DATE:20181011
DTEND;VALUE=DATE:20181012
DTSTAMP:20260420T233812
CREATED:20181105T183139Z
LAST-MODIFIED:20181105T183151Z
UID:2820-1539216000-1539302399@ubora-biomedical.org
SUMMARY:European Parliament Interest Group in Biomedical Engineering Meeting
DESCRIPTION:
URL:https://ubora-biomedical.org/event/european-parliament-interest-group-in-biomedical-engineering-meeting/
LOCATION:European Parliament in Bruxelles\, Bât. Altiero Spinelli 60 rue Wiertz / Wiertzstraat 60\, Bruxelles\, 1047\, Belgium
CATEGORIES:Meeting
END:VEVENT
END:VCALENDAR