BEGIN:VCALENDAR
VERSION:2.0
PRODID:-//Ubora - ECPv6.15.20//NONSGML v1.0//EN
CALSCALE:GREGORIAN
METHOD:PUBLISH
X-WR-CALNAME:Ubora
X-ORIGINAL-URL:https://ubora-biomedical.org
X-WR-CALDESC:Events for Ubora
REFRESH-INTERVAL;VALUE=DURATION:PT1H
X-Robots-Tag:noindex
X-PUBLISHED-TTL:PT1H
BEGIN:VTIMEZONE
TZID:Europe/Madrid
BEGIN:DAYLIGHT
TZOFFSETFROM:+0100
TZOFFSETTO:+0200
TZNAME:CEST
DTSTART:20170326T010000
END:DAYLIGHT
BEGIN:STANDARD
TZOFFSETFROM:+0200
TZOFFSETTO:+0100
TZNAME:CET
DTSTART:20171029T010000
END:STANDARD
BEGIN:DAYLIGHT
TZOFFSETFROM:+0100
TZOFFSETTO:+0200
TZNAME:CEST
DTSTART:20180325T010000
END:DAYLIGHT
BEGIN:STANDARD
TZOFFSETFROM:+0200
TZOFFSETTO:+0100
TZNAME:CET
DTSTART:20181028T010000
END:STANDARD
BEGIN:DAYLIGHT
TZOFFSETFROM:+0100
TZOFFSETTO:+0200
TZNAME:CEST
DTSTART:20190331T010000
END:DAYLIGHT
BEGIN:STANDARD
TZOFFSETFROM:+0200
TZOFFSETTO:+0100
TZNAME:CET
DTSTART:20191027T010000
END:STANDARD
END:VTIMEZONE
BEGIN:VEVENT
DTSTART;TZID=Europe/Madrid:20180901T140000
DTEND;TZID=Europe/Madrid:20180902T130000
DTSTAMP:20260421T012718
CREATED:20180205T211125Z
LAST-MODIFIED:20180205T232000Z
UID:1413-1535810400-1535893200@ubora-biomedical.org
SUMMARY:First International Conference on Collaborative Biomedical Engineering for Open Source Medical Technologies
DESCRIPTION:
URL:https://ubora-biomedical.org/event/first-international-conference-on-collaborative-biomedical-engineering-for-open-source-medical-technologies/
LOCATION:Centro Congressi Le Benedettine\, Piazza San Paolo a ripa d'Arno\, Pisa\, 56122\, Italy
CATEGORIES:Conference
END:VEVENT
END:VCALENDAR